BEGIN:VCALENDAR
VERSION:2.0
PRODID:-//CUAMED México - ECPv5.16.3.1//NONSGML v1.0//EN
CALSCALE:GREGORIAN
METHOD:PUBLISH
X-WR-CALNAME:CUAMED México
X-ORIGINAL-URL:https://cuam.org
X-WR-CALDESC:Eventos para CUAMED México
BEGIN:VTIMEZONE
TZID:America/Mexico_City
BEGIN:DAYLIGHT
TZOFFSETFROM:-0600
TZOFFSETTO:-0500
TZNAME:CDT
DTSTART:20170402T080000
END:DAYLIGHT
BEGIN:STANDARD
TZOFFSETFROM:-0500
TZOFFSETTO:-0600
TZNAME:CST
DTSTART:20171029T070000
END:STANDARD
END:VTIMEZONE
BEGIN:VEVENT
DTSTART;TZID=America/Mexico_City:20170819T160000
DTEND;TZID=America/Mexico_City:20170819T200000
DTSTAMP:20260425T090529
CREATED:20170807T165515Z
LAST-MODIFIED:20170815T202542Z
UID:1470-1503158400-1503172800@cuam.org
SUMMARY:Taller de Liposucción sin cirugía (Hidrolipoclasia)
DESCRIPTION:Centro Universitario de Alternativas Médicas te invita a su:\nTaller de Liposucción sin cirugía (Hidrolipoclasia) \n \nLa hidrolipoclasia es sin lugar a dudas una de las mejores opciones para evacuar y eliminar los rollitos. Ofrece una posibilidad real a las personas inconformes con su físico y que temen a los riesgos de la cirugía. Es prácticamente accesible a cualquier persona\, pues sus contraindicaciones son casi nulas. Adicional a ello\, es un tratamiento motivador ya que sus resultados se observan en las primeras sesiones. Hidro = quiere decir agua Lipo = grasa Clasi= significa «romper» o «estallar» La hidrolipoclasia consiste en la mezcla de mesoterapia reductiva drenante y reafirmante disuelta en un suero fisiológico esta se aplica en zonas adiposas localizadas y celulitis.\n\n \n\n \n\n\nTEMARIO\n \n1.Que es mesoterapia?\n 2.Métodos de aplicación?\n 3.Manejo de adiposidades(grasa)\n 4.principios activos(sustancia para adiposidad)\n5.transdermoterapia\n6.beneficios de hidrolipoclasia\n7.material a utilizar\n8.contraindicaciones\n9.cuidados pos hidrolipoclasia\n10.modelamiento corporal\n11.herramienta para aplicación\n12.practica \n \n \n\nFecha \n19 Agosto\n\nde 4pm a 8pm\n \n\nDocumentos a entregar:\n \nConstancia de asistencia\n \nInversión 1500 pesos\n \nPROMOCIÓN \napartando tu lugar antes del 10 Agosto 2017\n\n \n1 000 pesos\n \nSe impartirá en Manzanillo no. 90 Col. Roma Sur\, CDMX\n \n\n\n\n\n\n\n\n\n\n\n¿CÓMO REALIZAR LOS PAGOS CORRE¿SPONDIENTES A INSCRIPCIÓN Y MENSUALIDADES?(o para apartar tu lugar) \n \nOfrecemos tres opciones de pago: \n \n1. Efectivo. Directamente en las instalaciones de CUAM Df.\n2. Tarjeta VISA o MasterCard. Directamente en las instalaciones de CUAM Df.\n3. Depósito bancario: Presentar la ficha de depósito/transferencia el día de la actividad correspondiente\n   DATOS NÚMERO DE CUENTA: \n   Banco: Bancomer\n   Cuenta: 4772 1430 07580604\n\n   A nombre de: David Eduardo Hidalgo Ramírez
URL:https://cuam.org/event/taller-liposuccion-sin-cirugia-hidrolipoclasia/
LOCATION:CUAM México\, Manzanillo 90\, Cuauhtémoc\, CDMX \, Ciudad de México\, 06760\, México
CATEGORIES:Evento Taller
ORGANIZER;CN="CUAM%20M%C3%A9xico":MAILTO:info@cuam.org
END:VEVENT
END:VCALENDAR