BEGIN:VCALENDAR
VERSION:2.0
PRODID:-//CUAMED México - ECPv5.16.3.1//NONSGML v1.0//EN
CALSCALE:GREGORIAN
METHOD:PUBLISH
X-WR-CALNAME:CUAMED México
X-ORIGINAL-URL:https://cuam.org
X-WR-CALDESC:Eventos para CUAMED México
BEGIN:VTIMEZONE
TZID:America/Mexico_City
BEGIN:DAYLIGHT
TZOFFSETFROM:-0600
TZOFFSETTO:-0500
TZNAME:CDT
DTSTART:20170402T080000
END:DAYLIGHT
BEGIN:STANDARD
TZOFFSETFROM:-0500
TZOFFSETTO:-0600
TZNAME:CST
DTSTART:20171029T070000
END:STANDARD
END:VTIMEZONE
BEGIN:VEVENT
DTSTART;TZID=America/Mexico_City:20171013T100000
DTEND;TZID=America/Mexico_City:20171013T140000
DTSTAMP:20260425T054608
CREATED:20170811T194334Z
LAST-MODIFIED:20170816T181750Z
UID:1552-1507888800-1507903200@cuam.org
SUMMARY:Taller Dermapen
DESCRIPTION:Centro Universitario de Alternativas Médicas te invita a su:\nTaller de : MESOTERAPIA CON DERMAPEN \n¿Sabes que ya hay un tratamiento llamado Dermapen que consta de un dispositivo de 11 micro agujas y funciona para reafirmar\, levantar y rejuvenecer la piel? \nTemario: \n-¿Qué es la mesoterapia? \n-Historia de la mesoterapia \n– ¿Qué es el dermapen? \n– ¿Porqué utilizar dermapen? \n-Fisiología de la lesión vascular \n– Sustancias en mesoterapia \n-Práctica \nINCLUYE DERMAPEN DE REGALO PRIMERAS 5 PERSONAS \n  \n Liposucción sin cirugía (Hidrolipoclasia) \n¿Qué es la hidrolipoclasia? \n  \nLa hidrolipoclasia es sin lugar a dudas una de las mejores opciones para evacuar y eliminar los rollitos. Ofrece una posibilidad real a las personas inconformes con su físico y que temen a los riesgos de la cirugía. Es prácticamente accesible a cualquier persona\, pues sus contraindicaciones son casi nulas. Adicional a ello\, es un tratamiento motivador ya que sus resultados se observan en las primeras sesiones. Hidro = quiere decir agua Lipo = grasa Clasi= significa «romper» o «estallar» La hidrolipoclasia consiste en la mezcla de mesoterapia reductiva drenante y reafirmante disuelta en un suero fisiológico esta se aplica en zonas adiposas localizadas y celulitis. \n  \nTEMARIO \n  \n1.Que es mesoterapia?\n 2.Métodos de aplicación?\n 3.Manejo de adiposidades(grasa)\n 4.principios activos(sustancia para adiposidad)\n 5.transdermoterapia\n 6.beneficios de hidrolipoclasia\n 7.material a utilizar\n 8.contraindicaciones\n 9.cuidados pos hidrolipoclasia\n 10.modelamiento corporal\n 11.herramienta para aplicación\n 12.practica \n  \nIniciamos el día 13 de  octubre \nInversión $3\,360 pesos. \nPROMOCIÓN: Apartando tu lugar antes del 20 de  septiembre   2017  \n$3\,200 (Los dos talleres) \n  \nHORARIO: \nDERMAPEN 10AM A 2PM \n1 HORA DE DESCANSO \nHIDROLIPOCLASIA 3PM A 7PM \nDocumentos a entregar: \n  \nConstancia de asistencia \n  \nSe impartirá en Manzanillo no. 90 Col. Roma Sur\, CDMX \n¿CÓMO REALIZAR LOS PAGOS CORRESPONDIENTES A INSCRIPCIÓN Y MENSUALIDADES?(o para apartar tu lugar) \n  \nOfrecemos tres opciones de pago: \n  \n\nEfectivo. Directamente en las instalaciones de CUAM Df.\nTarjeta VISA o MasterCard. Directamente en las instalaciones de CUAM Df.\nDepósito bancario: Presentar la ficha de depósito/transferencia el día de la actividad correspondiente\n\nDATOS NÚMERO DE CUENTA: \nBanco: Bancomer \nCuenta: 4772 1430 07580604 \nA nombre de: David Eduardo Hidalgo Ramírez
URL:https://cuam.org/event/taller-dermapen/
LOCATION:CUAM México\, Manzanillo 90\, Cuauhtémoc\, CDMX \, Ciudad de México\, 06760\, México
CATEGORIES:Evento Taller
ORGANIZER;CN="CUAM%20M%C3%A9xico":MAILTO:info@cuam.org
END:VEVENT
END:VCALENDAR