BEGIN:VCALENDAR
VERSION:2.0
PRODID:-//CUAMED México - ECPv5.16.3.1//NONSGML v1.0//EN
CALSCALE:GREGORIAN
METHOD:PUBLISH
X-WR-CALNAME:CUAMED México
X-ORIGINAL-URL:https://cuam.org
X-WR-CALDESC:Eventos para CUAMED México
BEGIN:VTIMEZONE
TZID:America/Mexico_City
BEGIN:DAYLIGHT
TZOFFSETFROM:-0600
TZOFFSETTO:-0500
TZNAME:CDT
DTSTART:20170402T080000
END:DAYLIGHT
BEGIN:STANDARD
TZOFFSETFROM:-0500
TZOFFSETTO:-0600
TZNAME:CST
DTSTART:20171029T070000
END:STANDARD
END:VTIMEZONE
BEGIN:VEVENT
DTSTART;TZID=America/Mexico_City:20170818T160000
DTEND;TZID=America/Mexico_City:20170818T200000
DTSTAMP:20260425T072023
CREATED:20170802T214811Z
LAST-MODIFIED:20170802T214811Z
UID:1452-1503072000-1503086400@cuam.org
SUMMARY:Taller de Jugoterapia
DESCRIPTION:Taller de Jugoterapia (4 horas)\n\nLa jugo-terapia es la rama de la medicina natural que estudia\, investiga\, experimenta\, la aplicación de jugos de frutas\, verduras\, las combinaciones de estos\, como parte de la nutrición humana\, para el tratamiento de enfermedades y sobre todo para prevenirlas.\n\nObjetivos:\n• Identificar los vegetales y frutas frescos de la temporada.\n• Seleccionar los más indicados para trastornos específicos.\n• Saber prepararlos y administrarlos.\n\nTemario:\n1. Valor de los alimentos naturales.\n2. Significado de las vitaminas y minerales.\n3. Importancia de las enzimas en los comestibles crudos.\n4. Cualidades de los jugos frescos para el organismo humano.\n5. Beneficios de las fibras.\n6. Como elaborar jugos y licuados saludables.\n7. Utensilios y herramientas necesarias en su confección.\n8. Jugos terapéuticos.\n9. Licuados terapéuticos.\n10. Normas para optimizar los efectos de la jugoterapia.\n\n\nDocumentos a entregar:\nCuam entregará una constancia de asistencia avalada por nuestra institución.\n\nFecha: 19 Agosto 2017 \nde 4 pm a 8 pm \nManzanillo no. 90 Col. Roma Sur\n\nCosto:$ 1\,000 pesos (Incluye Material )\n\nPROMOCIÓN $ 800.00\nREALIZANDO UN APARTADO DE AL MENOS  $ 300.00\nA MÁS TARDAR EL 10 de Mayo 2017\n\nUbicación\nManzanillo no. 90 Col. Roma Sur\, Ciudad de México \nhttps://goo.gl/maps/r9LXZapvwbM2\n\nPROMOCIÓN EXTRA: RECIBE UN 10% DE DESCUENTO ADICIONAL SI UN AMIGO\, FAMILIAR O CONOCIDO TUYO SE INSCRIBE TAMBIÉN A ESTE EVENTO \n¿CÓMO REALIZAR LOS PAGOS CORRESPONDIENTES PARA \n\nOfrecemos tres opciones de pago: \n \n1. Efectivo. Directamente en las instalaciones de CUAM Df.\n2. Tarjeta VISA o MasterCard. Directamente en las instalaciones de CUAM Df.\n3. Depósito bancario: Presentar la ficha de depósito/transferencia el día de la actividad correspondiente\n   DATOS NÚMERO DE CUENTA: \n   Banco: Bancomer\n   Cuenta: 4772 1430 07580604\n   A nombre de: David Eduardo Hidalgo Ramírez 
URL:https://cuam.org/event/taller-de-jugoterapia/
END:VEVENT
END:VCALENDAR