BEGIN:VCALENDAR
VERSION:2.0
PRODID:-//CUAMED México - ECPv5.16.3.1//NONSGML v1.0//EN
CALSCALE:GREGORIAN
METHOD:PUBLISH
X-WR-CALNAME:CUAMED México
X-ORIGINAL-URL:https://cuam.org
X-WR-CALDESC:Eventos para CUAMED México
BEGIN:VTIMEZONE
TZID:America/Mexico_City
BEGIN:DAYLIGHT
TZOFFSETFROM:-0600
TZOFFSETTO:-0500
TZNAME:CDT
DTSTART:20170402T080000
END:DAYLIGHT
BEGIN:STANDARD
TZOFFSETFROM:-0500
TZOFFSETTO:-0600
TZNAME:CST
DTSTART:20171029T070000
END:STANDARD
END:VTIMEZONE
BEGIN:VEVENT
DTSTART;VALUE=DATE:20170805
DTEND;VALUE=DATE:20170806
DTSTAMP:20260425T072023
CREATED:20170808T214338Z
LAST-MODIFIED:20170720T223637Z
UID:1227-1501891200-1501977599@cuam.org
SUMMARY:Biomagnetismo
DESCRIPTION:[vc_row][vc_column]Diplomado en BiomagnetismoDuración: \n• 65 horas de estudio en aula. Impartidas en 5 módulos (Cada módulo de 13 horas\, se estudia un fin de semana al mes)\n• Servicio social por proyecto.[vc_column_text]¿QUÉ ES EL BIOMAGNETISMO? \nBiomagnetismo demuestra que aplicando imanes de una determinada fuerza y polaridad en puntos específicos del cuerpo\, se consigue exterminar en tiempo breve\, virus\, bacterias\, hongos o parásitos\, que son causa de la mayoría de las enfermedades graves del hombre\, incluso algunas en las que la medicina oficial no siempre reconoce una etiología microbiana como la diabetes\, el cáncer\, la artritis y otras. \nLos que hemos tenido la fortuna de presenciar los resultados del Biomagnetismo\, podemos testimoniar que en pocas sesiones\,  un gran porcentaje de pacientes experimentan rápidas y notables mejorías\, que no se dan comúnmente con otros tratamientos. Esto se debe principalmente al aniquilamiento de los virus\, que como sabemos son de muy difícil tratamiento para la medicina convencional\, que sólo tiene éxito exterminando bacterias por medio de antibióticos.[/vc_column_text][/vc_column][/vc_row][vc_row][vc_column][vc_empty_space height=»2em»]OBJETIVO DEL DIPLOMADO:Transmitir y amplificar los estímulos exteriores de salud que se aplican al cuerpo humano en desequilibrio. Logrando que los bloqueos se liberen y las substancias nutritivas fluyan libremente llegando al lugar que se requieran.[vc_column_text]INVERSIÓN:\n2000 INSCRIPCIÓN\n2000 MENSUALIDAD \nPROMOCIÓN (Apartando tu lugar o inscribiéndote antes)\n1500 INSCRIPCIÓN\n1800 MENSUALIDAD\nPROMOCIÓN EXTRA: RECIBE UN 10% DE DESCUENTO ADICIONAL SI UN AMIGO\, FAMILIAR O CONOCIDO TUYO SE INSCRIBE TAMBIÉN A ALGUNO DE ESTOS EVENTOS.[/vc_column_text][vc_empty_space height=»2em»][vc_single_image image=»1231″ img_size=»full» alignment=»center» onclick=»link_image»][vc_empty_space height=»2em»][vc_btn title=»Apartar Lugar» color=»success» align=»center» i_icon_fontawesome=»fa fa-shopping-cart» add_icon=»true» link=»url:http%3A%2F%2Fec2-52-33-235-84.us-west-2.compute.amazonaws.com%2Fcuam_mx%2Fproducto%2Fdiplomado-en-biomagnetismo-mas-inscripcion%2F|title:Apartar%20Lugar||»][/vc_column][/vc_row]
URL:https://cuam.org/event/diplomado-en-biomagnetismo/
LOCATION:CUAM México\, Manzanillo 90\, Cuauhtémoc\, CDMX \, Ciudad de México\, 06760\, México
CATEGORIES:Evento Diplomado
ORGANIZER;CN="CUAM%20M%C3%A9xico":MAILTO:info@cuam.org
END:VEVENT
END:VCALENDAR