BEGIN:VCALENDAR
VERSION:2.0
PRODID:-//CUAMED México - ECPv5.16.3.1//NONSGML v1.0//EN
CALSCALE:GREGORIAN
METHOD:PUBLISH
X-WR-CALNAME:CUAMED México
X-ORIGINAL-URL:https://cuam.org
X-WR-CALDESC:Eventos para CUAMED México
BEGIN:VTIMEZONE
TZID:America/Mexico_City
BEGIN:DAYLIGHT
TZOFFSETFROM:-0600
TZOFFSETTO:-0500
TZNAME:CDT
DTSTART:20170402T080000
END:DAYLIGHT
BEGIN:STANDARD
TZOFFSETFROM:-0500
TZOFFSETTO:-0600
TZNAME:CST
DTSTART:20171029T070000
END:STANDARD
END:VTIMEZONE
BEGIN:VEVENT
DTSTART;TZID=America/Mexico_City:20170805T090000
DTEND;TZID=America/Mexico_City:20170805T090000
DTSTAMP:20260425T072835
CREATED:20170724T224439Z
LAST-MODIFIED:20170724T224439Z
UID:1429-1501923600-1501923600@cuam.org
SUMMARY:Diplomado en Biomagnetismo
DESCRIPTION:CENTRO UNIVERSITARIO DE ALTERNATIVAS MEDICAS TE INVITA A SER PARTE EN NUESTRO DIPLOMADO DE BIOMAGNETISMO MEDICO- INTEGRAL. \n \n¿Qué es el Biomagnetismo?\n \nBiomagnetismo demuestra que aplicando imanes de una determinada fuerza y polaridad en puntos específicos del cuerpo\, se consigue exterminar en tiempo breve\, virus\, bacterias\, hongos o parásitos\, que son causa de la mayoría de las enfermedades graves del hombre\, incluso algunas en las que la medicina oficial no siempre reconoce una etiología microbiana como la diabetes\, el cáncer\, la artritis y otras. \nLos que hemos tenido la fortuna de presenciar los resultados del Biomagnetismo\, podemos testimoniar que en pocas sesiones\,  un gran porcentaje de pacientes experimentan rápidas y notables mejorías\, que no se dan comúnmente con otros tratamientos. Esto se debe principalmente al aniquilamiento de los virus\, que como sabemos son de muy difícil tratamiento para la medicina convencional\, que sólo tiene éxito exterminando bacterias por medio de antibióticos.\n\n \nPROGRAMA : \n \n1.- Magnetoterapia y estética.\n2.- Pares biomagnéticos.\n Clasificación de pares.\n Kinesiología.\n Rastreo.\n3.- Continuación Pares Biomagnéticos. \n4.- Fenómeno tumoral.\n Estudio de pacientes con procesos tumorales.\n Hologramas. \n5.- Bioenergética. \n Chakras.\n Pares emocionales.\n Psicobioenergética. \n \nDuración : \n \n6 meses\n \nFecha de Inicio : \n \n5 y 6 de Agosto\n \nDocumentos a entregar :\n \n\n\nConstancia de competencias y habilidades laborales por parte del Centro Universitario de Alternativas Médicas con registro ante la Secretaria de Trabajo y Previsión Social.\n\n\nDocumento de calificación pre-aprobatoria para posgrado por el Instituto de Ciencias Médicas de Villa Clara\, Cuba.\n\n\n\n \nInversión : \n \n$2\,000 Inscripción\n$2\,500 Mensualidad\n \nPromoción :\nInscribiéndose antes del 30 de julio \n \n$1\,000 Inscripción \n$1\,800 Mensualidad\n \nLas promociones son válidas inscribiéndote anticipadamente\, o bien apartando tu lugar con al menos $ 500 a cuenta antes del 28 de Julio .\n \n \n¿CÓMO REALIZAR LOS PAGOS CORRESPONDIENTES A INSCRIPCIÓN Y MENSUALIDADES?(o para apartar tu lugar) \n \nOfrecemos tres opciones de pago: \n \n1. Efectivo. Directamente en las instalaciones de CUAM Df.\n2. Tarjeta VISA o MasterCard. Directamente en las instalaciones de CUAM Df.\n3. Depósito bancario: Presentar la ficha de depósito/transferencia el día de la actividad correspondiente\n   DATOS NÚMERO DE CUENTA: \n   Banco: Bancomer\n   Cuenta:\n   A nombre de: David Eduardo Hidalgo Ramírez\n\n 
URL:https://cuam.org/event/diplomado-en-biomagnetismo-2/
LOCATION:CUAM México\, Manzanillo 90\, Cuauhtémoc\, CDMX \, Ciudad de México\, 06760\, México
CATEGORIES:Evento Diplomado
ORGANIZER;CN="CUAM%20M%C3%A9xico":MAILTO:info@cuam.org
END:VEVENT
END:VCALENDAR