BEGIN:VCALENDAR
VERSION:2.0
PRODID:-//CUAMED México - ECPv5.16.3.1//NONSGML v1.0//EN
CALSCALE:GREGORIAN
METHOD:PUBLISH
X-WR-CALNAME:CUAMED México
X-ORIGINAL-URL:https://cuam.org
X-WR-CALDESC:Eventos para CUAMED México
BEGIN:VTIMEZONE
TZID:America/Mexico_City
BEGIN:DAYLIGHT
TZOFFSETFROM:-0600
TZOFFSETTO:-0500
TZNAME:CDT
DTSTART:20170402T080000
END:DAYLIGHT
BEGIN:STANDARD
TZOFFSETFROM:-0500
TZOFFSETTO:-0600
TZNAME:CST
DTSTART:20171029T070000
END:STANDARD
END:VTIMEZONE
BEGIN:VEVENT
DTSTART;TZID=America/Mexico_City:20170819T090000
DTEND;TZID=America/Mexico_City:20170820T150000
DTSTAMP:20260425T072323
CREATED:20170802T233441Z
LAST-MODIFIED:20170815T203401Z
UID:1455-1503133200-1503241200@cuam.org
SUMMARY:Curso de Psicología Positiva\, Cuántica y Transpersonal.
DESCRIPTION:Capacitar a los profesionales de  la salud y personas interesadas en ampliar sus conocimientos sobre como el estrés y las afecciones emocionales repercuten en el proceso salud-enfermedad y como tratarlas y prevenirlas.\nObjetivos específicos:\n1-Proporcionar información acerca de la integración de la psiquis y los sistemas nervioso\, endocrino e inmune.\n2-Comprender el aspecto integrador de la red sistémica psiconeuroinmunoendocrina (PNIE).\n3-Aplicar los conocimientos sobre la red sistémica PNIE en la salud y la enfermedad.\nContenido:\na)- Psiconeuroinmunoendocrinología. Concepto y alcance.\nb)- Breve reseña  la morfofisiología de los sistemas nervioso\, inmune y endocrino.\nc)- Red sistémica PNIE en la Salud y la Enfermedad.\nd)- Medicina Mente Cuerpo. Bases Científicas.\ne)- Algunas teorías neurocientíficas actuales que validan este nuevo enfoque en Psicología. La Inteligencia Emocional. Teoría del Cerebro Total y las Inteligencias Múltiples.\nMódulo 2: Estrés y técnicas de sanación cuántica para su superación.\nObjetivos específicos:\n1-Identificar el enfoque PNIE en el estrés.\n2-Valorar los conceptos de estrés\, alostasis\, carga alóstática\, vulnerabilidad y resiliencia.\n3-Proveer un programa de tratamiento de las crisis personales mediante un programa de sanación cuántica.\n4-Analizar el concepto de Epigenética y las consecuencias del estrés prenatal.\n5-Valorar enfermedades producidas por el estrés crónico y su tratamiento.\n \nContenido:\na)- Enfoque PNIE del Estrés.\nb)-Estrés\, Alostasis\, Carga Alostática\, Vulnerabilidad y Resiliencia.\nc)-Epigenética.\nd)-Consecuencias del Estrés Prenatal.\ne)-Enfermedades por Estrés y patología relacionada.\nMódulo 3: Psicología Positiva\, Cuántica y Transpersonal.\nObjetivos específicos:\na)-Valorar el concepto de Psicología Positiva.\nb)-Analizar el alcance actual del enfoque transpersonal en Psicología.\nc)-Realizar prácticas de terapias psicológicas cuánticas-transpersonales.\nd)-Comprender el  alcance actual de la Psicología Positiva y su relación con el enfoque de la Psicología Cuántica-Transpersonal.\nContenido:\na)-Psicología Positiva. Concepto y componentes fundamentales.\nb)- Psicología Cuántica y Transpersonal. Concepto y alcance como la cuarta fuerza en Psicología. La trascendencia.\nc)-Ejemplos de terapias psicológicas cuánticas y actividades prácticas.\nf)- Enfoque de la Psicología Positiva. Su alcance actual.\ng)- Prácticas de Psicología Positiva.\nSistema de evaluación: Asistencia-participación en clases y en seminarios.\nh)-Enfoque desde la Programación Neurolingüística y el Coaching.\nPROMOCIÓN EXTRA: RECIBE UN 10% DE DESCUENTO ADICIONAL SI UN AMIGO\, FAMILIAR O CONOCIDO TUYO SE INSCRIBE TAMBIÉN A ALGUNO DE ESTOS EVENTOS. 
URL:https://cuam.org/event/curso-psicologia-positiva-cuantica-transpersonal/
CATEGORIES:Evento Curso
END:VEVENT
END:VCALENDAR