BEGIN:VCALENDAR
VERSION:2.0
PRODID:-//CUAMED México - ECPv5.16.3.1//NONSGML v1.0//EN
CALSCALE:GREGORIAN
METHOD:PUBLISH
X-WR-CALNAME:CUAMED México
X-ORIGINAL-URL:https://cuam.org
X-WR-CALDESC:Eventos para CUAMED México
BEGIN:VTIMEZONE
TZID:America/Mexico_City
BEGIN:DAYLIGHT
TZOFFSETFROM:-0600
TZOFFSETTO:-0500
TZNAME:CDT
DTSTART:20170402T080000
END:DAYLIGHT
BEGIN:STANDARD
TZOFFSETFROM:-0500
TZOFFSETTO:-0600
TZNAME:CST
DTSTART:20171029T070000
END:STANDARD
END:VTIMEZONE
BEGIN:VEVENT
DTSTART;TZID=America/Mexico_City:20170930T090000
DTEND;TZID=America/Mexico_City:20171001T153000
DTSTAMP:20260425T054117
CREATED:20170815T190120Z
LAST-MODIFIED:20170815T190410Z
UID:1560-1506762000-1506871800@cuam.org
SUMMARY:Curso Kundalini Yoga
DESCRIPTION:Centro Universitario De Alternativas Medicas\n Te invita a su Curso: \nManeja tu estrés y expande tu Ser \nBasado en las enseñanzas de Kundalini Yoga \n  \nEste Curso te permite identificar los niveles de estrés en que vives\, \nTe ayudará a ser consciente\, aprender y reconocer tu capacidad de manejarlo. \nLograrás descubrir a través de tu consciencia la forma asertiva para el manejo del estrés y equilibrar tu vida personal\, profesional\, emocional y social. \n  \nDescubrirás qué es el Estrés y como afecta en tu vida reflexionando en las siguientes preguntas: \n\n¿Te sientes con la capacidad de relajarte y disfrutar tu vida?\n¿Has notado si el estrés te afecta en todo lo que haces durante un día en tu vida? \,\n¿Has notado si tu salud se ve mermada a causa del estrés?\,\n¿Has notado si tus relaciones personales se ven afectadas debido al estrés?\,\n¿Eres consciente de posibles hábitos destructivos como consecuencia del estrés?\n\n  \nTambién entenderás porqué la ingesta de algunos alimentos y la falta de ejercicio son factores determinantes que incrementan los niveles de estrés en tu vida.  \nDocumentos a entregar: \nConstancia de asistencia con valor curricular avalada por el Centro Universitario de Alternativas Médicas  \nModalidad: \nEn fin de semana. \nEn horario de Sábado y Domingo de 09 am a 3:30pm. \nInicio: 30 Septiembre al 1 de Octubre 2017  \nInversión:\n$2\,500 \nPromoción $2\,000 últimos 3 lugares!!!! \n¿CÓMO REALIZAR LOS PAGOS CORRESPONDIENTES?  \n\nOfrecemos tres opciones de pago:  \n  \n\nEfectivo. Directamente en las instalaciones de CUAM Df.\n2. Tarjeta VISA o MasterCard. Directamente en las instalaciones de CUAM Df.\n3. Depósito bancario: Presentar la ficha de depósito/transferencia el día de la actividad correspondiente\nDATOS NÚMERO DE CUENTA:  4772 1430 07580604   Banco: Bancomer\n\n  \n¿CÓMO REALIZAR LOS PAGOS CORRESPONDIENTES A INSCRIPCIÓN Y MENSUALIDADES?(o para apartar tu lugar)  \n  \nOfrecemos tres opciones de pago:  \n  \n\nEfectivo. Directamente en las instalaciones de CUAM Df.\nTarjeta VISA o MasterCard. Directamente en las instalaciones de CUAM Df.\nDepósito bancario: Presentar la ficha de depósito/transferencia el día de la actividad correspondiente\n\n    \n  \nREALZA TU VITALIDAD \nConoce los mecanismos del estrés \nLIBERARA TU CUERPO Y MENTE DE LOS EFECTOS DEL ESTRÉS \nA  TRAVÉS DE KRIYAS Y MEDITACIONES \n  \nCurso-Taller con múltiples  ejercicios prácticos para contrarrestar el estrés
URL:https://cuam.org/event/curso-kundalini-yoga/
LOCATION:CUAM México\, Manzanillo 90\, Cuauhtémoc\, CDMX \, Ciudad de México\, 06760\, México
CATEGORIES:Evento Curso
ORGANIZER;CN="CUAM%20M%C3%A9xico":MAILTO:info@cuam.org
END:VEVENT
END:VCALENDAR