BEGIN:VCALENDAR
VERSION:2.0
PRODID:-//CUAMED México - ECPv5.16.3.1//NONSGML v1.0//EN
CALSCALE:GREGORIAN
METHOD:PUBLISH
X-WR-CALNAME:CUAMED México
X-ORIGINAL-URL:https://cuam.org
X-WR-CALDESC:Eventos para CUAMED México
BEGIN:VTIMEZONE
TZID:America/Mexico_City
BEGIN:DAYLIGHT
TZOFFSETFROM:-0600
TZOFFSETTO:-0500
TZNAME:CDT
DTSTART:20170402T080000
END:DAYLIGHT
BEGIN:STANDARD
TZOFFSETFROM:-0500
TZOFFSETTO:-0600
TZNAME:CST
DTSTART:20171029T070000
END:STANDARD
END:VTIMEZONE
BEGIN:VEVENT
DTSTART;TZID=America/Mexico_City:20170701T100000
DTEND;TZID=America/Mexico_City:20170705T200000
DTSTAMP:20260425T072129
CREATED:20170509T154105Z
LAST-MODIFIED:20170509T162130Z
UID:1282-1498903200-1499284800@cuam.org
SUMMARY:Certificación Internacional de Medicina Estética
DESCRIPTION:[vc_row][vc_column]Centro Universitario de Alternativas Médicas te invita a su:Certificación Internacional de Medicina EstéticaAl término de la certificación el alumno comprenderá las diferentes técnicas y fundamentos de la Medicina Estética Integral\, así como la utilización de diferentes recursos convencionales e integrales y su aplicación para el mejoramiento de la apariencia física y la resolución de las alteraciones más frecuentes en la estética.[/vc_column][/vc_row][vc_row][vc_column][vc_empty_space height=»2em»]TEMARIO:Escleroterapia\nIntralipoterapia\nMesoterapia\nPlasma Rico en Plaquetas\nPlasma 4ª Generación – Plasma Gel[vc_column_text]Duración: \n5 días de capacitación intensiva\n10 am a 8 pm\ndel 1 al 5 de julio\nCosto:\n13\,000 \nPromoción:\nInscribiéndote o apartando tu lugar antes del 30 Abril 2017\n9\,000\nLas promociones son válidas inscribiéndote anticipadamente\, o bien apartando tu lugar (puedes apartar tu lugar con 500 pesos a cuenta)\nDirección: CUAM CENTRAL\nManzanillo no. 90 Col. Roma Sur\, CDMX[/vc_column_text][vc_empty_space height=»2em»][vc_single_image image=»1284″ img_size=»full» alignment=»center» onclick=»link_image»][vc_empty_space height=»2em»][vc_btn title=»Apartar Lugar» color=»success» align=»center» i_icon_fontawesome=»fa fa-shopping-cart» add_icon=»true» link=»url:http%3A%2F%2Fec2-52-33-235-84.us-west-2.compute.amazonaws.com%2Fcuam_mx%2Fproducto%2Fcertificaion-estetica-emocional-inscripcion%2F|title:Apartar%20Lugar||»][/vc_column][/vc_row]
URL:https://cuam.org/event/certificacion-medicina-estetica/
LOCATION:CUAM México\, Manzanillo 90\, Cuauhtémoc\, CDMX \, Ciudad de México\, 06760\, México
CATEGORIES:Evento Diplomado
ORGANIZER;CN="CUAM%20M%C3%A9xico":MAILTO:info@cuam.org
END:VEVENT
END:VCALENDAR