BEGIN:VCALENDAR
VERSION:2.0
PRODID:-//CUAMED México - ECPv5.16.3.1//NONSGML v1.0//EN
CALSCALE:GREGORIAN
METHOD:PUBLISH
X-WR-CALNAME:CUAMED México
X-ORIGINAL-URL:https://cuam.org
X-WR-CALDESC:Eventos para CUAMED México
BEGIN:VTIMEZONE
TZID:America/Mexico_City
BEGIN:DAYLIGHT
TZOFFSETFROM:-0600
TZOFFSETTO:-0500
TZNAME:CDT
DTSTART:20170402T080000
END:DAYLIGHT
BEGIN:STANDARD
TZOFFSETFROM:-0500
TZOFFSETTO:-0600
TZNAME:CST
DTSTART:20171029T070000
END:STANDARD
END:VTIMEZONE
BEGIN:VEVENT
DTSTART;TZID=America/Mexico_City:20170928T100000
DTEND;TZID=America/Mexico_City:20171001T200000
DTSTAMP:20260425T054931
CREATED:20170807T175439Z
LAST-MODIFIED:20170816T162232Z
UID:1480-1506592800-1506888000@cuam.org
SUMMARY:Certificación de Acupuntura
DESCRIPTION:CENTRO UNIVERSITARIO DE ALTERNATIVAS MÉDICAS TE INVITA A SU;\nCertificación de Acupuntura con registro de la Secretaría de Educación Pública  \nLa acupuntura es una técnica de medicina alternativa\, originaria de China\, que consiste en introducir y manipular agujas en el cuerpo humano\, lo que actuaría como un beneficio para la salud y el bienestar del paciente. El procedimiento y la técnica utilizada se relacionan con la energía vital presente en el cuerpo humano\, algo que la medicina tradicional china llamó qí (o ch’í). \nDOCUMENTACIÓN A ENTREGAR  \nCERTIFICADO AVALADO POR EL CENTRO UNIVERSITARIO DE ALTERNATIVAS MÉDICAS Y LA SECRETARIA DE EDUCACIÓN PUBLICA. (SEP)  \nDIPLOMA DE CALIFICACIÓN PRE-APROBATORIA PARA POSGRADO POR PARTE DE LA UNIVERSIDAD SUPERIOR DE CIENCIAS MÉDICAS CARLOS J. FINLAY\, CAMAGÜEY\, CUBA. \nDIPLOMA DE CALIFICACIÓN APROBATORIA PARA MAESTRIA POR PARTE DE LA UNVIERSIDAD DE VALENCIA\, ESPAÑA. (Solo para médicos) \n28 de septiembre al 1 de Octubre \n5 días de capacitación intensiva \nde 10 am a  8pm  \nManzanillo no. 90  Col. Roma Sur\, Ciudad de México  \nINVERSIÓN \n13 000 PESOS \nINSCRIBIENDOTE O APARTANDO TU LUGAR ANTES DEL 20 Agosto .  \n9.000 PESOS\nPromociones válidas pagando la inscripción o  apartando tu lugar desde con 500 pesos a cuenta \nREQUISITOS:  \nConocimientos previos en el área de acupuntura (por lo menos los básicos)  \n¿CÓMO REALIZAR LOS PAGOS CORRESPONDIENTES A INSCRIPCIÓN Y MENSUALIDADES?(o para apartar tu lugar)  \n  \nOfrecemos tres opciones de pago:  \n  \n\nEfectivo. Directamente en las instalaciones de CUAM Df.\nTarjeta VISA o MasterCard. Directamente en las instalaciones de CUAM Df.\nDepósito bancario: Presentar la ficha de depósito/transferencia el día de la actividad correspondiente\n\n   DATOS NÚMERO DE CUENTA:  \n   Banco: Bancomer \n   Cuenta: 4772 1430 07580604   \n   A nombre de: David Eduardo Hidalgo Ramírez
URL:https://cuam.org/event/certificacion-de-acupuntura/
LOCATION:CUAM México\, Manzanillo 90\, Cuauhtémoc\, CDMX \, Ciudad de México\, 06760\, México
CATEGORIES:evento Certificación
ORGANIZER;CN="CUAM%20M%C3%A9xico":MAILTO:info@cuam.org
END:VEVENT
END:VCALENDAR