BEGIN:VCALENDAR
VERSION:2.0
PRODID:-//CUAMED México - ECPv5.16.3.1//NONSGML v1.0//EN
CALSCALE:GREGORIAN
METHOD:PUBLISH
X-WR-CALNAME:CUAMED México
X-ORIGINAL-URL:https://cuam.org
X-WR-CALDESC:Eventos para CUAMED México
BEGIN:VTIMEZONE
TZID:America/Mexico_City
BEGIN:DAYLIGHT
TZOFFSETFROM:-0600
TZOFFSETTO:-0500
TZNAME:CDT
DTSTART:20170402T080000
END:DAYLIGHT
BEGIN:STANDARD
TZOFFSETFROM:-0500
TZOFFSETTO:-0600
TZNAME:CST
DTSTART:20171029T070000
END:STANDARD
END:VTIMEZONE
BEGIN:VEVENT
DTSTART;TZID=America/Mexico_City:20170818T160000
DTEND;TZID=America/Mexico_City:20170818T200000
DTSTAMP:20260425T090551
CREATED:20170802T211031Z
LAST-MODIFIED:20170815T201125Z
UID:1449-1503072000-1503086400@cuam.org
SUMMARY:Taller de Moldeamiento de nalga
DESCRIPTION:Centro Universitario De Alternativas Médicas \nLa mesoterapia consiste en  inyectar sustancias que disuelven la grasa corporal\, estas sustancias son una mezcla de productos alopaticos y homeopaticos\, minerales\, vitaminas y aminoácidos.  El nombre de mesoterapia proviene de la capa de la piel llamada mesodermo que es en la cual se realizan las infiltraciones. \nLa mesoterapia mejora notoriamente el contorno de glúteos. Los resultados se ven de manera inmediata. \nDuración  4 horas \nDÍA 18 de Agosto 2017 \n4PM A 8PM \nInversión 1800 pesos \nPromoción apartando tu lugar a más tardar el 8 de agosto \n1000 \nDocumentos a entregar: \nConstancia de asistencia con valor curricular avalada por el Centro Universitario de Alternativas Médicas \nDirección: Manzanillo no. 90 Col. Roma Sur\, Ciudad de México \nTemario \n\nQue es Mesoterapia\nFormas de aplicación\nPrincipios activos (sustancias) para aumentar lasnalgas\nTécnicas alternativas\nVentosas para aumentas\nAcupuntura para tonificar el músculo (glúteo)\nContraindicaciones e indicaciones\nCuidados pos tratamiento\nCasos clínicos\nPráctica\n\nEn el curso se hace práctica\, quién quiera ser de modelo debe saber que le van a ver las nalgas los asistente del curso. \nTraer ropa cómoda (un short) \nEl curso de aumento de nalgas es una alternativa sin contra indicaciones\, sin peligro\, con productos naturales y técnicas naturales. \nNo se trabaja con Polímeros que ponen en riesgo al paciente \n¿CÓMO REALIZAR LOS PAGOS CORRESPONDIENTES A INSCRIPCIÓN Y MENSUALIDADES?(o para apartar tu lugar)\nOfrecemos tres opciones de pago: \n  \n\nEfectivo. Directamente en las instalaciones de CUAM Df.\n2. Tarjeta VISA o MasterCard. Directamente en las instalaciones de CUAM Df.\n3. Depósito bancario: Presentar la ficha de depósito/transferencia el día de la actividad correspondiente\nDATOS NÚMERO DE CUENTA:\nBanco: Bancomer Cuenta: 4772 1430 0758 0604\nA nombre de: David Eduardo Hidalgo Ramirez\n\nPROMOCIÓN EXTRA: RECIBE UN 10% DE DESCUENTO ADICIONAL SI UN AMIGO\, FAMILIAR O CONOCIDO TUYO SE INSCRIBE TAMBIÉN A ALGUNO DE ESTOS EVENTOS.
URL:https://cuam.org/event/centro-universitario-alternativas-medicas-taller-moldeamiento-nalga/
CATEGORIES:Evento Taller
END:VEVENT
END:VCALENDAR