BEGIN:VCALENDAR
VERSION:2.0
PRODID:-//CUAMED México - ECPv5.16.3.1//NONSGML v1.0//EN
CALSCALE:GREGORIAN
METHOD:PUBLISH
X-WR-CALNAME:CUAMED México
X-ORIGINAL-URL:https://cuam.org
X-WR-CALDESC:Eventos para CUAMED México
BEGIN:VTIMEZONE
TZID:America/Mexico_City
BEGIN:DAYLIGHT
TZOFFSETFROM:-0600
TZOFFSETTO:-0500
TZNAME:CDT
DTSTART:20170402T080000
END:DAYLIGHT
BEGIN:STANDARD
TZOFFSETFROM:-0500
TZOFFSETTO:-0600
TZNAME:CST
DTSTART:20171029T070000
END:STANDARD
END:VTIMEZONE
BEGIN:VEVENT
DTSTART;TZID=America/Mexico_City:20170930T100000
DTEND;TZID=America/Mexico_City:20170930T200000
DTSTAMP:20260423T100332
CREATED:20170904T223331Z
LAST-MODIFIED:20170904T223411Z
UID:1636-1506765600-1506801600@cuam.org
SUMMARY:DIPLOMADO DE MEDICINA TRADICIONAL MEXICANA
DESCRIPTION:CENTRO UNIVERSITARIO DE ALTERNATIVAS MÉDICAS TE INVITA A SU\n\nDIPLOMADO DE MEDICINA TRADICIONAL MEXICANA \n \n¿Qué es la medicina tradicional mexicana?\n \nEs el conjunto de conocimientos de la visión y aplicación de los recursos de nuestros antepasados y nuestra tierra\, hacia la recuperación de la salud y su mantenimiento.\n \nTEMARIO: 6 módulos en total.\n \n01- Cosmovisión de la medicina tradicional mexicana.\n \n02- Formas de diagnóstico de la medicina indígena tradicional.\n \n03- Enfermedades o desequilibrios vistos desde la medicina indígena tradicional.\n \n04- Técnicas terapéuticas de medicina indígena tradicional\n \n05- Herbolaria.\n \n06- Preparación de las plantas medicinales y vivencia del temazcal.\n \nDESCRIPCIÓN POR MÓDULO:\n \nModulo I\n \n-Las Leyes del Movimiento: El Principio. La dualidad en lo Frio-Caliente. La Triada.\n \nLos cuatro rumbos y Los cuatro elementos.\n \n-Filosofía\, Religión y Curación en la medicina indígena.\n \n-La cuenta del tiempo. Tonalamatl\, Tzolquin.\n \n-La medicina Tolteca\, Azteca\, Maya\, Zapoteca\, Huichola.\n \n-La Medicina Popular. \n \n-Influencia de otras tradiciones médicas.\n \n-Etnociencias y Saber popular: Anatomía\, fisiología\, etiología\, patología\, en\n \nlas concepciones indígenas.\n \nModulo II\n \n-Lectura de maíz\, diagnóstico de huevo\, lectura de flama\, percepciones y visiones.\n \n-Lectura de pulsos. Localización y señales\, pulso del abdomen\, práctica para\n \naprender a recoger el pulso regado\, latido y sus consecuencias.\n \n-Lectura de signos físicos. Lectura de Lengua.\n \n-Observaciones e interrogatorio básico.\n \n-Historia clínica y Diagnostico.\n \nMódulo III\n \n-Breve revisión a los conceptos de salud-enfermedad.\n \n-Mal ojo\, vista fuerte\, mal aire.\n \n-Susto y espanto\, pérdida de la sombra\, debilidad por “daño”\, mal echado.\n \n-Empacho.\n \n-Caída de la mollera.\n \n-Enfermedades en general.\n \nMódulo IV\n \n-Las limpias: Formas de sanación energética.\n \n-Masajes terapéuticos. Tronada de anginas. Tronada de Empacho\, Garrotillo\,\n \nManteada. \n \nMódulo V\n \n-Biodiversidad. Variedad de Ecosistemas. Tipos de vegetación.\n \n-Tradiciones Culturales del uso de las plantas medicinales.\n \n-Herbolaria por aparato y sistema: Digestivo\, Respiratorio\, Urinario\,\n \nCirculatorio\, Nervioso\, Glandular\, Musculo-esquelético.\n \nMódulo VI\n \n-Preparación de las plantas medicinales: Jarabes\, pomadas\, polvos\, pulpas y\n \nemplastos\, tinturas y micro dosis\, jabones\, etc. Vivencia de temazcal y cierre.\n\n \nINICIAMOS:30 De Septimbre 2017\n\n \nDURACIÓN 6 MESES \n\n \n\nDURACIÓN:  \n6 meses\, un fin de semana por mes. \n\nDocumentos\n \nCuam entregará un diploma avalado por la secretaría del trabajo y previsión social\n \n \nINVERSIÓN\n \nINSCRIPCIÓN 2000 PESOS\nMENSUALIDAD 2000 PESOS \n \nPROMOCIÓN EXTRA APARTANDO TU LUGAR  50% DE DESCUENTO EN INSCRIPCIÓN Y 10% DE DESCUENTO EN MENSUALIDADES (apartando tu lugar desde con 500 pesos a cuenta o inscribiéndote antes del 15 de septiembre)\n\n\n\nINSCRIPCIÓN 1000 PESOS\nMENSUALIDAD 1800 PESOS\n\n\n\n¿CÓMO REALIZAR LOS PAGOS CORRESPONDIENTES A INSCRIPCIÓN Y MENSUALIDADES?(o para apartar tu lugar) \n \nOfrecemos tres opciones de pago: \n \n1. Efectivo. Directamente en las instalaciones de CUAM Df.\n2. Tarjeta VISA o MasterCard. Directamente en las instalaciones de CUAM Df.\n3. Depósito bancario: Presentar la ficha de depósito/transferencia el día de la actividad correspondiente\n   DATOS NÚMERO DE CUENTA: \n   Banco: Bancomer\n   Cuenta:4772143008627727 \n   A nombre de: David Eduardo Hidalgo Ramírez
URL:https://cuam.org/event/1636/
LOCATION:CUAM México\, Manzanillo 90\, Cuauhtémoc\, CDMX \, Ciudad de México\, 06760\, México
CATEGORIES:evento Certificación
ORGANIZER;CN="CUAM%20M%C3%A9xico":MAILTO:info@cuam.org
END:VEVENT
END:VCALENDAR